BEGIN:VCALENDAR
VERSION:2.0
PRODID:-//Colegio Providencia La Serena - ECPv5.10.0//NONSGML v1.0//EN
CALSCALE:GREGORIAN
METHOD:PUBLISH
X-WR-CALNAME:Colegio Providencia La Serena
X-ORIGINAL-URL:http://www.colegioprovidencialaserena.cl
X-WR-CALDESC:Eventos para Colegio Providencia La Serena
BEGIN:VTIMEZONE
TZID:America/Santiago
BEGIN:STANDARD
TZOFFSETFROM:-0300
TZOFFSETTO:-0400
TZNAME:-04
DTSTART:20200405T030000
END:STANDARD
BEGIN:DAYLIGHT
TZOFFSETFROM:-0400
TZOFFSETTO:-0300
TZNAME:-03
DTSTART:20200906T040000
END:DAYLIGHT
END:VTIMEZONE
BEGIN:VEVENT
DTSTART;TZID=America/Santiago:20201111T160000
DTEND;TZID=America/Santiago:20201111T170000
DTSTAMP:20260423T114643
CREATED:20201110T195825Z
LAST-MODIFIED:20201111T122948Z
UID:7050-1605110400-1605114000@www.colegioprovidencialaserena.cl
SUMMARY:Taller "Vida Sana y Nutrición" - 7°mos - 8°vos y 1°ros
DESCRIPTION:
URL:http://www.colegioprovidencialaserena.cl/evento/taller-vida-sana-y-nutricion-7mos-8vos-y-1ros/
END:VEVENT
END:VCALENDAR