BEGIN:VCALENDAR
VERSION:2.0
PRODID:-//Colegio Providencia La Serena - ECPv5.10.0//NONSGML v1.0//EN
CALSCALE:GREGORIAN
METHOD:PUBLISH
X-WR-CALNAME:Colegio Providencia La Serena
X-ORIGINAL-URL:http://www.colegioprovidencialaserena.cl
X-WR-CALDESC:Eventos para Colegio Providencia La Serena
BEGIN:VTIMEZONE
TZID:America/Santiago
BEGIN:STANDARD
TZOFFSETFROM:-0300
TZOFFSETTO:-0400
TZNAME:-04
DTSTART:20200405T030000
END:STANDARD
BEGIN:DAYLIGHT
TZOFFSETFROM:-0400
TZOFFSETTO:-0300
TZNAME:-03
DTSTART:20200906T040000
END:DAYLIGHT
END:VTIMEZONE
BEGIN:VEVENT
DTSTART;VALUE=DATE:20201116
DTEND;VALUE=DATE:20201117
DTSTAMP:20260423T030049
CREATED:20201118T135619Z
LAST-MODIFIED:20201118T135619Z
UID:7060-1605484800-1605571199@www.colegioprovidencialaserena.cl
SUMMARY:Taller Estudiantes - Prevención del Acoso y Ciberacoso Escolar
DESCRIPTION:
URL:http://www.colegioprovidencialaserena.cl/evento/taller-estudiantes-prevencion-del-acoso-y-ciberacoso-escolar/
END:VEVENT
END:VCALENDAR