BEGIN:VCALENDAR
VERSION:2.0
PRODID:-//Colegio Providencia La Serena - ECPv5.10.0//NONSGML v1.0//EN
CALSCALE:GREGORIAN
METHOD:PUBLISH
X-WR-CALNAME:Colegio Providencia La Serena
X-ORIGINAL-URL:http://www.colegioprovidencialaserena.cl
X-WR-CALDESC:Eventos para Colegio Providencia La Serena
BEGIN:VTIMEZONE
TZID:America/Santiago
BEGIN:STANDARD
TZOFFSETFROM:-0300
TZOFFSETTO:-0400
TZNAME:-04
DTSTART:20210404T030000
END:STANDARD
BEGIN:DAYLIGHT
TZOFFSETFROM:-0400
TZOFFSETTO:-0300
TZNAME:-03
DTSTART:20210905T040000
END:DAYLIGHT
END:VTIMEZONE
BEGIN:VEVENT
DTSTART;TZID=America/Santiago:20210309T160000
DTEND;TZID=America/Santiago:20210309T235900
DTSTAMP:20260419T073659
CREATED:20210309T134609Z
LAST-MODIFIED:20210309T134659Z
UID:7222-1615305600-1615334340@www.colegioprovidencialaserena.cl
SUMMARY:Reunión online de Apoderados - 16:00 Horas
DESCRIPTION:
URL:http://www.colegioprovidencialaserena.cl/evento/reunion-de-apoderados-7/
END:VEVENT
END:VCALENDAR