BEGIN:VCALENDAR
VERSION:2.0
PRODID:-//Colegio Providencia La Serena - ECPv5.10.0//NONSGML v1.0//EN
CALSCALE:GREGORIAN
METHOD:PUBLISH
X-WR-CALNAME:Colegio Providencia La Serena
X-ORIGINAL-URL:http://www.colegioprovidencialaserena.cl
X-WR-CALDESC:Eventos para Colegio Providencia La Serena
BEGIN:VTIMEZONE
TZID:America/Santiago
BEGIN:STANDARD
TZOFFSETFROM:-0300
TZOFFSETTO:-0400
TZNAME:-04
DTSTART:20200405T030000
END:STANDARD
BEGIN:DAYLIGHT
TZOFFSETFROM:-0400
TZOFFSETTO:-0300
TZNAME:-03
DTSTART:20200906T040000
END:DAYLIGHT
END:VTIMEZONE
BEGIN:VEVENT
DTSTART;TZID=America/Santiago:20201214T080000
DTEND;TZID=America/Santiago:20201224T170000
DTSTAMP:20260421T230933
CREATED:20201203T194027Z
LAST-MODIFIED:20201203T194027Z
UID:7098-1607932800-1608829200@www.colegioprovidencialaserena.cl
SUMMARY:Periodo de Matrículas de estudiantes de continuidad y estudiantes asignadas por SAE
DESCRIPTION:
URL:http://www.colegioprovidencialaserena.cl/evento/periodo-de-matriculas-de-estudiantes-de-continuidad-y-estudiantes-asignadas-por-sae/
END:VEVENT
END:VCALENDAR