BEGIN:VCALENDAR
VERSION:2.0
PRODID:-//Colegio Providencia La Serena - ECPv5.10.0//NONSGML v1.0//EN
CALSCALE:GREGORIAN
METHOD:PUBLISH
X-WR-CALNAME:Colegio Providencia La Serena
X-ORIGINAL-URL:http://www.colegioprovidencialaserena.cl
X-WR-CALDESC:Eventos para Colegio Providencia La Serena
BEGIN:VTIMEZONE
TZID:America/Santiago
BEGIN:STANDARD
TZOFFSETFROM:-0300
TZOFFSETTO:-0400
TZNAME:-04
DTSTART:20200405T030000
END:STANDARD
BEGIN:DAYLIGHT
TZOFFSETFROM:-0400
TZOFFSETTO:-0300
TZNAME:-03
DTSTART:20200906T040000
END:DAYLIGHT
END:VTIMEZONE
BEGIN:VEVENT
DTSTART;VALUE=DATE:20201229
DTEND;VALUE=DATE:20201230
DTSTAMP:20260421T152755
CREATED:20200818T000122Z
LAST-MODIFIED:20200818T000122Z
UID:6282-1609200000-1609200000@www.colegioprovidencialaserena.cl
SUMMARY:Nace Madre Bernarda Morín
DESCRIPTION:
URL:http://www.colegioprovidencialaserena.cl/evento/nace-madre-bernarda-morin/
END:VEVENT
END:VCALENDAR