BEGIN:VCALENDAR
VERSION:2.0
PRODID:-//Colegio Providencia La Serena - ECPv5.10.0//NONSGML v1.0//EN
CALSCALE:GREGORIAN
METHOD:PUBLISH
X-WR-CALNAME:Colegio Providencia La Serena
X-ORIGINAL-URL:http://www.colegioprovidencialaserena.cl
X-WR-CALDESC:Eventos para Colegio Providencia La Serena
BEGIN:VTIMEZONE
TZID:America/Santiago
BEGIN:STANDARD
TZOFFSETFROM:-0300
TZOFFSETTO:-0400
TZNAME:-04
DTSTART:20200405T030000
END:STANDARD
BEGIN:DAYLIGHT
TZOFFSETFROM:-0400
TZOFFSETTO:-0300
TZNAME:-03
DTSTART:20200906T040000
END:DAYLIGHT
END:VTIMEZONE
BEGIN:VEVENT
DTSTART;TZID=America/Santiago:20201221T140000
DTEND;TZID=America/Santiago:20201221T170000
DTSTAMP:20260421T081242
CREATED:20201214T144828Z
LAST-MODIFIED:20201214T144828Z
UID:7143-1608559200-1608570000@www.colegioprovidencialaserena.cl
SUMMARY:Matrícula 3°E - 4°A
DESCRIPTION:
URL:http://www.colegioprovidencialaserena.cl/evento/matricula-3e-4a/
END:VEVENT
END:VCALENDAR