BEGIN:VCALENDAR
VERSION:2.0
PRODID:-//Colegio Providencia La Serena - ECPv5.10.0//NONSGML v1.0//EN
CALSCALE:GREGORIAN
METHOD:PUBLISH
X-WR-CALNAME:Colegio Providencia La Serena
X-ORIGINAL-URL:http://www.colegioprovidencialaserena.cl
X-WR-CALDESC:Eventos para Colegio Providencia La Serena
BEGIN:VTIMEZONE
TZID:America/Santiago
BEGIN:STANDARD
TZOFFSETFROM:-0300
TZOFFSETTO:-0400
TZNAME:-04
DTSTART:20200405T030000
END:STANDARD
BEGIN:DAYLIGHT
TZOFFSETFROM:-0400
TZOFFSETTO:-0300
TZNAME:-03
DTSTART:20200906T040000
END:DAYLIGHT
END:VTIMEZONE
BEGIN:VEVENT
DTSTART;TZID=America/Santiago:20201216T140000
DTEND;TZID=America/Santiago:20201216T170000
DTSTAMP:20260421T192745
CREATED:20201214T123358Z
LAST-MODIFIED:20201214T123358Z
UID:7133-1608127200-1608138000@www.colegioprovidencialaserena.cl
SUMMARY:Matrícula 1°A - 1°B
DESCRIPTION:
URL:http://www.colegioprovidencialaserena.cl/evento/matricula-1a-1b/
END:VEVENT
END:VCALENDAR