BEGIN:VCALENDAR
VERSION:2.0
PRODID:-//Colegio Providencia La Serena - ECPv5.10.0//NONSGML v1.0//EN
CALSCALE:GREGORIAN
METHOD:PUBLISH
X-WR-CALNAME:Colegio Providencia La Serena
X-ORIGINAL-URL:http://www.colegioprovidencialaserena.cl
X-WR-CALDESC:Eventos para Colegio Providencia La Serena
BEGIN:VTIMEZONE
TZID:America/Santiago
BEGIN:STANDARD
TZOFFSETFROM:-0300
TZOFFSETTO:-0400
TZNAME:-04
DTSTART:20200405T030000
END:STANDARD
BEGIN:DAYLIGHT
TZOFFSETFROM:-0400
TZOFFSETTO:-0300
TZNAME:-03
DTSTART:20200906T040000
END:DAYLIGHT
END:VTIMEZONE
BEGIN:VEVENT
DTSTART;VALUE=DATE:20200616
DTEND;VALUE=DATE:20200617
DTSTAMP:20260422T085734
CREATED:20200619T160439Z
LAST-MODIFIED:20200619T160439Z
UID:5597-1592265600-1592351999@www.colegioprovidencialaserena.cl
SUMMARY:Mateada 167 años de la Congregación de las Hermanas de la Providencia en Chile - Online
DESCRIPTION:
URL:http://www.colegioprovidencialaserena.cl/evento/mateada-167-anos-de-la-congregacion-de-las-hermanas-de-la-providencia-en-chile-online/
END:VEVENT
END:VCALENDAR