BEGIN:VCALENDAR
VERSION:2.0
PRODID:-//Colegio Providencia La Serena - ECPv5.10.0//NONSGML v1.0//EN
CALSCALE:GREGORIAN
METHOD:PUBLISH
X-WR-CALNAME:Colegio Providencia La Serena
X-ORIGINAL-URL:http://www.colegioprovidencialaserena.cl
X-WR-CALDESC:Eventos para Colegio Providencia La Serena
BEGIN:VTIMEZONE
TZID:America/Santiago
BEGIN:STANDARD
TZOFFSETFROM:-0300
TZOFFSETTO:-0400
TZNAME:-04
DTSTART:20200405T030000
END:STANDARD
BEGIN:DAYLIGHT
TZOFFSETFROM:-0400
TZOFFSETTO:-0300
TZNAME:-03
DTSTART:20200906T040000
END:DAYLIGHT
END:VTIMEZONE
BEGIN:VEVENT
DTSTART;TZID=America/Santiago:20201210T100000
DTEND;TZID=America/Santiago:20201210T110000
DTSTAMP:20260422T052820
CREATED:20201203T194304Z
LAST-MODIFIED:20201203T194330Z
UID:7104-1607594400-1607598000@www.colegioprovidencialaserena.cl
SUMMARY:Licenciatura 4°Medio D
DESCRIPTION:Presencial Estudiantes – Apoderados y Apoderadas Online
URL:http://www.colegioprovidencialaserena.cl/evento/licenciatura-4medio-d/
END:VEVENT
END:VCALENDAR