BEGIN:VCALENDAR
VERSION:2.0
PRODID:-//Colegio Providencia La Serena - ECPv5.10.0//NONSGML v1.0//EN
CALSCALE:GREGORIAN
METHOD:PUBLISH
X-WR-CALNAME:Colegio Providencia La Serena
X-ORIGINAL-URL:http://www.colegioprovidencialaserena.cl
X-WR-CALDESC:Eventos para Colegio Providencia La Serena
BEGIN:VTIMEZONE
TZID:America/Santiago
BEGIN:STANDARD
TZOFFSETFROM:-0300
TZOFFSETTO:-0400
TZNAME:-04
DTSTART:20190407T030000
END:STANDARD
BEGIN:DAYLIGHT
TZOFFSETFROM:-0400
TZOFFSETTO:-0300
TZNAME:-03
DTSTART:20190908T040000
END:DAYLIGHT
END:VTIMEZONE
BEGIN:VEVENT
DTSTART;TZID=America/Santiago:20190306T080000
DTEND;TZID=America/Santiago:20190306T170000
DTSTAMP:20260421T051046
CREATED:20190319T142138Z
LAST-MODIFIED:20190319T142138Z
UID:1799-1551859200-1551891600@www.colegioprovidencialaserena.cl
SUMMARY:Inicio de Cuaresma
DESCRIPTION:
URL:http://www.colegioprovidencialaserena.cl/evento/inicio-de-cuaresma/
END:VEVENT
END:VCALENDAR