BEGIN:VCALENDAR
VERSION:2.0
PRODID:-//Colegio Providencia La Serena - ECPv5.10.0//NONSGML v1.0//EN
CALSCALE:GREGORIAN
METHOD:PUBLISH
X-WR-CALNAME:Colegio Providencia La Serena
X-ORIGINAL-URL:http://www.colegioprovidencialaserena.cl
X-WR-CALDESC:Eventos para Colegio Providencia La Serena
BEGIN:VTIMEZONE
TZID:America/Santiago
BEGIN:STANDARD
TZOFFSETFROM:-0300
TZOFFSETTO:-0400
TZNAME:-04
DTSTART:20210404T030000
END:STANDARD
BEGIN:DAYLIGHT
TZOFFSETFROM:-0400
TZOFFSETTO:-0300
TZNAME:-03
DTSTART:20210905T040000
END:DAYLIGHT
END:VTIMEZONE
BEGIN:VEVENT
DTSTART;VALUE=DATE:20210412
DTEND;VALUE=DATE:20210413
DTSTAMP:20260423T201744
CREATED:20210412T193505Z
LAST-MODIFIED:20210412T193505Z
UID:7376-1618185600-1618271999@www.colegioprovidencialaserena.cl
SUMMARY:Inicio campañas Centro de Alumnas
DESCRIPTION:
URL:http://www.colegioprovidencialaserena.cl/evento/inicio-campanas-centro-de-alumnas/
END:VEVENT
END:VCALENDAR