BEGIN:VCALENDAR
VERSION:2.0
PRODID:-//Colegio Providencia La Serena - ECPv5.10.0//NONSGML v1.0//EN
CALSCALE:GREGORIAN
METHOD:PUBLISH
X-WR-CALNAME:Colegio Providencia La Serena
X-ORIGINAL-URL:http://www.colegioprovidencialaserena.cl
X-WR-CALDESC:Eventos para Colegio Providencia La Serena
BEGIN:VTIMEZONE
TZID:America/Santiago
BEGIN:STANDARD
TZOFFSETFROM:-0300
TZOFFSETTO:-0400
TZNAME:-04
DTSTART:20200405T030000
END:STANDARD
BEGIN:DAYLIGHT
TZOFFSETFROM:-0400
TZOFFSETTO:-0300
TZNAME:-03
DTSTART:20200906T040000
END:DAYLIGHT
END:VTIMEZONE
BEGIN:VEVENT
DTSTART;TZID=America/Santiago:20201105T190000
DTEND;TZID=America/Santiago:20201105T200000
DTSTAMP:20260423T190051
CREATED:20201104T144850Z
LAST-MODIFIED:20201104T144850Z
UID:7003-1604602800-1604606400@www.colegioprovidencialaserena.cl
SUMMARY:Eucaristía y Mes de María - Online
DESCRIPTION:
URL:http://www.colegioprovidencialaserena.cl/evento/eucaristia-y-mes-de-maria-online/
END:VEVENT
END:VCALENDAR