BEGIN:VCALENDAR
VERSION:2.0
PRODID:-//Colegio Providencia La Serena - ECPv5.10.0//NONSGML v1.0//EN
CALSCALE:GREGORIAN
METHOD:PUBLISH
X-WR-CALNAME:Colegio Providencia La Serena
X-ORIGINAL-URL:http://www.colegioprovidencialaserena.cl
X-WR-CALDESC:Eventos para Colegio Providencia La Serena
BEGIN:VTIMEZONE
TZID:America/Santiago
BEGIN:STANDARD
TZOFFSETFROM:-0300
TZOFFSETTO:-0400
TZNAME:-04
DTSTART:20200405T030000
END:STANDARD
BEGIN:DAYLIGHT
TZOFFSETFROM:-0400
TZOFFSETTO:-0300
TZNAME:-03
DTSTART:20200906T040000
END:DAYLIGHT
END:VTIMEZONE
BEGIN:VEVENT
DTSTART;VALUE=DATE:20201116
DTEND;VALUE=DATE:20201124
DTSTAMP:20260423T043633
CREATED:20201110T175031Z
LAST-MODIFIED:20201110T180458Z
UID:7045-1605484800-1606175999@www.colegioprovidencialaserena.cl
SUMMARY:Entrega de Promedios - Cuartos Medios
DESCRIPTION:16 al 23 de Noviembre
URL:http://www.colegioprovidencialaserena.cl/evento/entrega-de-promedios-cuartos-medios/
END:VEVENT
END:VCALENDAR