BEGIN:VCALENDAR
VERSION:2.0
PRODID:-//Colegio Providencia La Serena - ECPv5.10.0//NONSGML v1.0//EN
CALSCALE:GREGORIAN
METHOD:PUBLISH
X-WR-CALNAME:Colegio Providencia La Serena
X-ORIGINAL-URL:http://www.colegioprovidencialaserena.cl
X-WR-CALDESC:Eventos para Colegio Providencia La Serena
BEGIN:VTIMEZONE
TZID:America/Santiago
BEGIN:STANDARD
TZOFFSETFROM:-0300
TZOFFSETTO:-0400
TZNAME:-04
DTSTART:20200405T030000
END:STANDARD
BEGIN:DAYLIGHT
TZOFFSETFROM:-0400
TZOFFSETTO:-0300
TZNAME:-03
DTSTART:20200906T040000
END:DAYLIGHT
END:VTIMEZONE
BEGIN:VEVENT
DTSTART;VALUE=DATE:20200907
DTEND;VALUE=DATE:20200908
DTSTAMP:20260423T062408
CREATED:20200904T140916Z
LAST-MODIFIED:20200904T141004Z
UID:6627-1599436800-1599523199@www.colegioprovidencialaserena.cl
SUMMARY:Entrega de Canastas JUNAEB
DESCRIPTION:
URL:http://www.colegioprovidencialaserena.cl/evento/entrega-de-canastas-junaeb/
END:VEVENT
END:VCALENDAR