BEGIN:VCALENDAR
VERSION:2.0
PRODID:-//Colegio Providencia La Serena - ECPv5.10.0//NONSGML v1.0//EN
CALSCALE:GREGORIAN
METHOD:PUBLISH
X-WR-CALNAME:Colegio Providencia La Serena
X-ORIGINAL-URL:http://www.colegioprovidencialaserena.cl
X-WR-CALDESC:Eventos para Colegio Providencia La Serena
BEGIN:VTIMEZONE
TZID:America/Santiago
BEGIN:STANDARD
TZOFFSETFROM:-0300
TZOFFSETTO:-0400
TZNAME:-04
DTSTART:20200405T030000
END:STANDARD
BEGIN:DAYLIGHT
TZOFFSETFROM:-0400
TZOFFSETTO:-0300
TZNAME:-03
DTSTART:20200906T040000
END:DAYLIGHT
END:VTIMEZONE
BEGIN:VEVENT
DTSTART;TZID=America/Santiago:20200708T080000
DTEND;TZID=America/Santiago:20200709T160000
DTSTAMP:20260422T171049
CREATED:20200707T194918Z
LAST-MODIFIED:20200707T194918Z
UID:5936-1594195200-1594310400@www.colegioprovidencialaserena.cl
SUMMARY:Entrega canastas Junaeb
DESCRIPTION:
URL:http://www.colegioprovidencialaserena.cl/evento/entrega-canastas-junaeb-2/
END:VEVENT
END:VCALENDAR