BEGIN:VCALENDAR
VERSION:2.0
PRODID:-//Colegio Providencia La Serena - ECPv5.10.0//NONSGML v1.0//EN
CALSCALE:GREGORIAN
METHOD:PUBLISH
X-WR-CALNAME:Colegio Providencia La Serena
X-ORIGINAL-URL:http://www.colegioprovidencialaserena.cl
X-WR-CALDESC:Eventos para Colegio Providencia La Serena
BEGIN:VTIMEZONE
TZID:America/Santiago
BEGIN:STANDARD
TZOFFSETFROM:-0300
TZOFFSETTO:-0400
TZNAME:-04
DTSTART:20200405T030000
END:STANDARD
BEGIN:DAYLIGHT
TZOFFSETFROM:-0400
TZOFFSETTO:-0300
TZNAME:-03
DTSTART:20200906T040000
END:DAYLIGHT
END:VTIMEZONE
BEGIN:VEVENT
DTSTART;TZID=America/Santiago:20201126T150000
DTEND;TZID=America/Santiago:20201126T160000
DTSTAMP:20260422T105638
CREATED:20201124T180239Z
LAST-MODIFIED:20201124T180239Z
UID:7089-1606402800-1606406400@www.colegioprovidencialaserena.cl
SUMMARY:Charla: Sexualidad Responsable - 7° y 8° Básicos
DESCRIPTION:
URL:http://www.colegioprovidencialaserena.cl/evento/charla-sexualidad-responsable-7-y-8-basicos/
END:VEVENT
END:VCALENDAR