BEGIN:VCALENDAR
VERSION:2.0
PRODID:-//Colegio Providencia La Serena - ECPv5.10.0//NONSGML v1.0//EN
CALSCALE:GREGORIAN
METHOD:PUBLISH
X-WR-CALNAME:Colegio Providencia La Serena
X-ORIGINAL-URL:http://www.colegioprovidencialaserena.cl
X-WR-CALDESC:Eventos para Colegio Providencia La Serena
BEGIN:VTIMEZONE
TZID:America/Santiago
BEGIN:STANDARD
TZOFFSETFROM:-0300
TZOFFSETTO:-0400
TZNAME:-04
DTSTART:20200405T030000
END:STANDARD
BEGIN:DAYLIGHT
TZOFFSETFROM:-0400
TZOFFSETTO:-0300
TZNAME:-03
DTSTART:20200906T040000
END:DAYLIGHT
END:VTIMEZONE
BEGIN:VEVENT
DTSTART;TZID=America/Santiago:20201125T150000
DTEND;TZID=America/Santiago:20201125T160000
DTSTAMP:20260422T144932
CREATED:20201124T180043Z
LAST-MODIFIED:20201124T180043Z
UID:7087-1606316400-1606320000@www.colegioprovidencialaserena.cl
SUMMARY:Charla: Sexualidad responsable - 3° y 4° Medios
DESCRIPTION:
URL:http://www.colegioprovidencialaserena.cl/evento/charla-sexualidad-responsable-3-y-4-medios/
END:VEVENT
END:VCALENDAR