BEGIN:VCALENDAR
VERSION:2.0
PRODID:-//Colegio Providencia La Serena - ECPv5.10.0//NONSGML v1.0//EN
CALSCALE:GREGORIAN
METHOD:PUBLISH
X-WR-CALNAME:Colegio Providencia La Serena
X-ORIGINAL-URL:http://www.colegioprovidencialaserena.cl
X-WR-CALDESC:Eventos para Colegio Providencia La Serena
BEGIN:VTIMEZONE
TZID:America/Santiago
BEGIN:STANDARD
TZOFFSETFROM:-0300
TZOFFSETTO:-0400
TZNAME:-04
DTSTART:20210404T030000
END:STANDARD
BEGIN:DAYLIGHT
TZOFFSETFROM:-0400
TZOFFSETTO:-0300
TZNAME:-03
DTSTART:20210905T040000
END:DAYLIGHT
END:VTIMEZONE
BEGIN:VEVENT
DTSTART;TZID=America/Santiago:20210329T110000
DTEND;TZID=America/Santiago:20210329T120000
DTSTAMP:20260423T072135
CREATED:20210326T120559Z
LAST-MODIFIED:20210326T120559Z
UID:7297-1617015600-1617019200@www.colegioprovidencialaserena.cl
SUMMARY:Bendición de Ramos
DESCRIPTION:
URL:http://www.colegioprovidencialaserena.cl/evento/bendicion-de-ramos/
END:VEVENT
END:VCALENDAR