BEGIN:VCALENDAR
VERSION:2.0
PRODID:-//Colegio Providencia La Serena - ECPv5.10.0//NONSGML v1.0//EN
CALSCALE:GREGORIAN
METHOD:PUBLISH
X-WR-CALNAME:Colegio Providencia La Serena
X-ORIGINAL-URL:http://www.colegioprovidencialaserena.cl
X-WR-CALDESC:Eventos para Colegio Providencia La Serena
BEGIN:VTIMEZONE
TZID:America/Santiago
BEGIN:STANDARD
TZOFFSETFROM:-0300
TZOFFSETTO:-0400
TZNAME:-04
DTSTART:20210404T030000
END:STANDARD
BEGIN:DAYLIGHT
TZOFFSETFROM:-0400
TZOFFSETTO:-0300
TZNAME:-03
DTSTART:20210905T040000
END:DAYLIGHT
END:VTIMEZONE
BEGIN:VEVENT
DTSTART;TZID=America/Santiago:20210401T110000
DTEND;TZID=America/Santiago:20210401T120000
DTSTAMP:20260423T143456
CREATED:20210326T121806Z
LAST-MODIFIED:20210326T121806Z
UID:7303-1617274800-1617278400@www.colegioprovidencialaserena.cl
SUMMARY:7 Dolores de María
DESCRIPTION:
URL:http://www.colegioprovidencialaserena.cl/evento/7-dolores-de-maria/
END:VEVENT
END:VCALENDAR