BEGIN:VCALENDAR
VERSION:2.0
PRODID:-//Colegio Providencia La Serena - ECPv5.10.0//NONSGML v1.0//EN
CALSCALE:GREGORIAN
METHOD:PUBLISH
X-WR-CALNAME:Colegio Providencia La Serena
X-ORIGINAL-URL:http://www.colegioprovidencialaserena.cl
X-WR-CALDESC:Eventos para Colegio Providencia La Serena
BEGIN:VTIMEZONE
TZID:America/Santiago
BEGIN:STANDARD
TZOFFSETFROM:-0300
TZOFFSETTO:-0400
TZNAME:-04
DTSTART:20200405T030000
END:STANDARD
BEGIN:DAYLIGHT
TZOFFSETFROM:-0400
TZOFFSETTO:-0300
TZNAME:-03
DTSTART:20200906T040000
END:DAYLIGHT
END:VTIMEZONE
BEGIN:VEVENT
DTSTART;VALUE=DATE:20200617
DTEND;VALUE=DATE:20200618
DTSTAMP:20260422T125117
CREATED:20200619T160515Z
LAST-MODIFIED:20200619T160515Z
UID:5599-1592352000-1592438399@www.colegioprovidencialaserena.cl
SUMMARY:167° de la llegada de la Congregación de las Hermanas de la Providencia a Chile
DESCRIPTION:
URL:http://www.colegioprovidencialaserena.cl/evento/167-de-la-llegada-de-la-congregacion-de-las-hermanas-de-la-providencia-a-chile/
END:VEVENT
END:VCALENDAR